BEGIN:VCALENDAR
VERSION:2.0
PRODID:-//eventon.com NONSGML v1.0//EN
BEGIN:VEVENT
UID:69e621b999e3c
DTSTAMP:20260420T155313
DTSTART:20260426T060000Z
DTEND:20260426T140000Z
TZID:Europe/Helsinki
LOCATION:Wingman Security Lempääläntie 18 B
SUMMARY:Järjestyksenvalvojan kertauskurssi 4/26
DESCRIPTION: Järjestyksenvalvojan kertauskoulutus. Kurssin hyväksytyn suorittamisen jälkeen voit hakea Poliisilta hyväksyntää järjestyksenvalvojaksi 6kk kuluessa kurssin suorittamisesta. Kurssin kesto on 8 oppituntia. Kurssilla on läsnäolovelvoite ja se on suoritettava lähiopiskeluna. Ilmoittautuminen on sitova.Kurssi laskutetaan jälkikäteen. Mikäli joudut peruuttamaan osallistumisesi\,  ilmoitathan siitä pikimmiten osoitteeseen koulutus@wingmansecurity.fi. Mikäli osallistuminen perutaan myöhemmin\,  kuin 14vrk ennen kurssin[..]\nhttps://wingmansecurity.fi/events/jv-kert-4-26/
URL:https://wingmansecurity.fi/events/jv-kert-4-26/
END:VEVENT
END:VCALENDAR