BEGIN:VCALENDAR
VERSION:2.0
PRODID:-//eventon.com NONSGML v1.0//EN
BEGIN:VEVENT
UID:69e621bcb8349
DTSTAMP:20260420T155316
DTSTART:20260425T060000Z
DTEND:20260425T140000Z
TZID:Europe/Helsinki
LOCATION:Wingman Security Lempääläntie 18 B
SUMMARY:Voimankäyttövälineiden kertauskoulutus 4/26
DESCRIPTION: Järjestyksenvalvojien ja vartijoiden vuosittainen voimankäyttövälineiden kertauskoulutus. Koulutus on skenaariopainotteinen voimankäytön koulutus\,  jossa painopiste on tilanteenmukaisessa toiminnassa ja perustekniikoiden soveltamisessa. Turvallisuusalan elinkeinoluvanhaltijan palveluksessa työskenteleville vartijoille ja järjestyksenvalvojille pakollinen koulutus\,  mikäli työtehtävissään kantaa voimankäyttövälineitä. Koulutuksen pituus 8 oppituntia. Kurssilla on läsnäolovelvoite. Ilmoittautuminen on sitova.Kurssi laskutetaan jälkikäteen. Mikäli joudut peruuttamaan osallistumisesi\,  ilmoitathan siitä[..]\nhttps://wingmansecurity.fi/events/vk-kert-4-26/
URL:https://wingmansecurity.fi/events/vk-kert-4-26/
END:VEVENT
END:VCALENDAR