BEGIN:VCALENDAR
VERSION:2.0
PRODID:-//eventon.com NONSGML v1.0//EN
BEGIN:VEVENT
UID:69e64e852612c
DTSTAMP:20260420T190421
DTSTART:20260331T140000Z
DTEND:20260331T190000Z
TZID:Europe/Helsinki
LOCATION:Wingman Security Lempääläntie 18 B
SUMMARY:Teleskooppipatukan käyttäjäkoulutus 3/26
DESCRIPTION: Teleskooppipatukka on mm. järjestyksenvalvojien ja vartijoiden voimankäyttöväline. Käyttäjäkoulutuksessa saat vaadittavan koulutuksen teleskooppipatukan kantamiseen. Osallistuminen edellyttää vartijan tai järjestyksenvalvojan fyysisen voimankäytön perusteiden hyväksyttyä suorittamista. Työtehtävissään teleskooppipatukkaa voivat kantaa turvallisuusalan elinkeinoluvan haltijan palveluksessa oleva järjestyksenvalvoja tai vartija. Kurssin pituus 5 oppituntia. Kurssilla on läsnäolovelvoite. Ilmoittautuminen on sitova.Kurssi laskutetaan jälkikäteen. Mikäli joudut peruuttamaan[..]\nhttps://wingmansecurity.fi/events/teleskooppipatukan-kayttajakoulutus-3-26/
URL:https://wingmansecurity.fi/events/teleskooppipatukan-kayttajakoulutus-3-26/
END:VEVENT
END:VCALENDAR